BEGIN:VCALENDAR
VERSION:2.0
PRODID:-//eventon.com NONSGML v1.0//EN
CALSCALE:GREGORIAN
METHOD:PUBLISH
BEGIN:VEVENT
UID:69e5ed5ad540d
DTSTAMP:20260420T090946Z
DTSTART:20260426T200000Z
DTEND:20260426T230000Z
LOCATION:
SUMMARY:Pins & Politics!
DESCRIPTION:Join us for a fun\,  laid-back afternoon of bowling and great c
 ompany — come strike up new friendships with your Republican neighbors! W
 hether you’re bowling for strikes or just for fun\,  all skill levelsare 
 welcome! Bring your family\,  bring a friend! Where:Elsie’s in Northeast\
 ,  729 Marshall St. NE\, Minneapolis\,  MN 55413[..]\nhttps://www.mplsgop.o
 rg/events/pins-politics/
URL:https://www.mplsgop.org/events/pins-politics/
END:VEVENT
END:VCALENDAR