BEGIN:VCALENDAR
VERSION:2.0
PRODID:-//eventon.com NONSGML v1.0//EN
CALSCALE:GREGORIAN
METHOD:PUBLISH
BEGIN:VEVENT
UID:69e5ed4bbef1b
DTSTAMP:20260420T090931Z
DTSTART:20260529
DTEND:20260530
LOCATION:
SUMMARY:2026 MNGOP State Convention
DESCRIPTION:\nhttps://www.mplsgop.org/events/2026-mngop-state-convention/
URL:https://www.mplsgop.org/events/2026-mngop-state-convention/
END:VEVENT
END:VCALENDAR