BEGIN:VCALENDAR
VERSION:2.0
PRODID:-//eventon.com NONSGML v1.0//EN
CALSCALE:GREGORIAN
METHOD:PUBLISH
BEGIN:VEVENT
UID:69e5e9a7aa2df
DTSTAMP:20260420T085359Z
DTSTART:20250722T170000Z
DTEND:20250722T183000Z
LOCATION:
SUMMARY:MN DOGE: Cut the Waste\,  Save the Budget
DESCRIPTION:Tuesday\,  July 22\,  2025\, &nbsp;5:00 pm &#8211; 6:30 pm |&nb
 sp;Edina Country Club5100 Wooddale Ave.&nbsp;Edina\,  Minnesota 55424 | Cos
 t:&nbsp;$20 (appetizers included\,  cash bar available) Join Center of the 
 American Experiment to learn about specific programs and projects the team 
 identified as inefficient\,  redundant\,  unnecessary or downright fraudule
 nt. Find out who is in[..]\nhttps://www.mplsgop.org/events/mn-doge-cut-the-
 waste-save-the-budget/
URL:https://www.mplsgop.org/events/mn-doge-cut-the-waste-save-the-budget/
END:VEVENT
END:VCALENDAR